BEGIN:VCALENDAR
VERSION:2.0
PRODID:-//CERN//INDICO//EN
BEGIN:VEVENT
SUMMARY:Factorization in QCD and Beyond
DTSTART:20260506T080000Z
DTEND:20260508T160000Z
DTSTAMP:20260423T002800Z
UID:indico-event-394@indico.ph.ed.ac.uk
CONTACT:sopa.events@ed.ac.uk
DESCRIPTION:The Higgs Centre will be running a three-day workshop on Facto
 rization in QCD and Beyond on 6-8 May\, 2026.\nThis is an in-person event\
 , starting on Wednesday the 6th at 9am and ending on Friday the 8th at 5pm
 . \nThe workshop addresses recent progress and open problems related to f
 actorization at both amplitude and observable level. The main focus is\n·
          the method of regions and Glauber effects\, ·         c
 ollinear factorization and its violation\, ·         the Regge limit\
 , ·         connections to open problems in gravity.\nThis workshop w
 ill constitute a small number of talks in a relaxed atmosphere\, and ample
  time for discussion. \nDeadline for registration: 27 February 2026\nREGI
 STRATION HAS NOW CLOSED\nOrganisers:\nEinan Gardi (University of Edinburgh
 )Franz Herzog (University of Edinburgh)Lorenzo Magnea (University of Turin
  and INFN\, Italy)Simone Marzani (University of Genova and INFN\, Italy)Lo
 renzo Tancredi (Technical University of Munich\, Germany)\nSpeakers:\nThom
 as BECHER (Bern)Federico Buccioni (TUM)Simon CARON-HUOT (McGill)Vittorio D
 EL DUCA (LNF\, Frascati)Giulio FALCIONI (UNITO)Jeff FORSHAW (Manchester)G
 iulio GAMBUTI (ETH Zürich)Stephen JONES (Durham)Alex KOVNER (UConn)Yao M
 A (ETH Zürich)German RODRIGO (CSIC)Ira ROTHSTEIN (Carnegie Mellon Unive
 rsity)Raju VENUGOPALAN (Brookhaven)\n \nSponsorship:This event is funded 
 with support from Higgs Centre for Theoretical Physics\, European Research
  Council (ERC) and Science is Cool Cultural Association (SCOOL)\n      
     \n\nTravel Scam! If you receive emails from travellerpoint(dot)org
  (or another travel company)\, please be careful. The email asks about arr
 ival and departure dates to Edinburgh and offers a hotel booking form wher
 e they ask for credit card details.\nPlease\, ignore the emails and do not
  reply nor click on any link given by them. You can also block the domain 
 on your email client.\nOur official emails are all from this website’s d
 omain “@ed.ac.uk” (usually\, sopa.events@ed.ac.uk). Please avoid givin
 g private information to external sources. The only official way to regist
 er for our workshops and events are advertised via this website (or indico
 ) and we will get in touch directly if we book accommodation for you.\n\nh
 ttps://indico.ph.ed.ac.uk/event/394/
LOCATION:Elm Lecture Theatre 
URL:https://indico.ph.ed.ac.uk/event/394/
END:VEVENT
END:VCALENDAR
