BEGIN:VCALENDAR
VERSION:2.0
PRODID:-//CERN//INDICO//EN
BEGIN:VEVENT
SUMMARY:All-IPNP meeting
DTSTART:20260519T130000Z
DTEND:20260519T140000Z
DTSTAMP:20260423T052900Z
UID:indico-event-424@indico.ph.ed.ac.uk
DESCRIPTION:\n\n\n\n\n\n\nZoom link will be emailed in the morning of the 
 meeting day.\n\n\n\n\n\n\n\n\n \n\n\nhttps://indico.ph.ed.ac.uk/event/424
 /
LOCATION:6206 (JCMB)
URL:https://indico.ph.ed.ac.uk/event/424/
END:VEVENT
END:VCALENDAR
